BEGIN:VCALENDAR
VERSION:2.0
PRODID:-//Tukios.com/
BEGIN:VEVENT
UID:9ae57b64-6474-4e58-8c7d-c86f8a0f48b1@www.vancebrooksfuneralhome.net
DTSTAMP:20260424T234910Z
DTSTART:20260428T210000Z
DTEND:20260428T230000Z
SUMMARY:Visitation
DESCRIPTION:
URL:https://www.vancebrooksfuneralhome.net/obituaries/jason-brannon
LOCATION:Vance Brooks Funeral Home 3738 U.S. 431  Phenix City AL 36867
GEO:32.5015381;-85.0466426
END:VEVENT
END:VCALENDAR