BEGIN:VCALENDAR
VERSION:2.0
PRODID:-//Tukios.com/
BEGIN:VEVENT
UID:cfa44058-3717-4a8a-bd21-202db90050f1@www.vancebrooksfuneralhome.net
DTSTAMP:20260421T004000Z
DTSTART:20260423T210000Z
DTEND:20260423T230000Z
SUMMARY:Visitation
DESCRIPTION:
URL:https://www.vancebrooksfuneralhome.net/obituaries/kenneth-horton-jr
LOCATION:Vance Brooks Funeral Home 3738 U.S. 431  Phenix City AL 36867
GEO:32.5015381;-85.0466426
END:VEVENT
END:VCALENDAR