BEGIN:VCALENDAR
VERSION:2.0
PRODID:-//Tukios.com/
BEGIN:VEVENT
UID:be3be441-4a39-4efb-9dec-67e418a78e93@www.vancebrooksfuneralhome.net
DTSTAMP:20260424T222007Z
DTSTART:20260428T170000Z
DTEND:20260428T180000Z
SUMMARY:Visitation
DESCRIPTION:
URL:https://www.vancebrooksfuneralhome.net/obituaries/oscar-bowden-jr
LOCATION:Vance Brooks Funeral Home 3738 U.S. 431  Phenix City AL 36867
GEO:32.5015381;-85.0466426
END:VEVENT
END:VCALENDAR