BEGIN:VCALENDAR
VERSION:2.0
PRODID:-//Tukios.com/
BEGIN:VEVENT
UID:271823db-c969-4241-aeb4-a11542d2dec3@www.vancebrooksfuneralhome.net
DTSTAMP:20260424T222034Z
DTSTART:20260428T180000Z
DTEND:20260428T190000Z
SUMMARY:Funeral Service
DESCRIPTION:
URL:https://www.vancebrooksfuneralhome.net/obituaries/oscar-bowden-jr
LOCATION:Vance Brooks Funeral Home 3738 U.S. 431  Phenix City AL 36867
GEO:32.5015381;-85.0466426
END:VEVENT
END:VCALENDAR